BEGIN:VCALENDAR
VERSION:2.0
PRODID:-//Kurhaus Bad Herrenalb - ECPv6.15.15//NONSGML v1.0//EN
CALSCALE:GREGORIAN
METHOD:PUBLISH
X-ORIGINAL-URL:https://kurhaus-badherrenalb.de
X-WR-CALDESC:Veranstaltungen für Kurhaus Bad Herrenalb
REFRESH-INTERVAL;VALUE=DURATION:PT1H
X-Robots-Tag:noindex
X-PUBLISHED-TTL:PT1H
BEGIN:VTIMEZONE
TZID:Europe/Berlin
BEGIN:DAYLIGHT
TZOFFSETFROM:+0100
TZOFFSETTO:+0200
TZNAME:CEST
DTSTART:20230326T010000
END:DAYLIGHT
BEGIN:STANDARD
TZOFFSETFROM:+0200
TZOFFSETTO:+0100
TZNAME:CET
DTSTART:20231029T010000
END:STANDARD
BEGIN:DAYLIGHT
TZOFFSETFROM:+0100
TZOFFSETTO:+0200
TZNAME:CEST
DTSTART:20240331T010000
END:DAYLIGHT
BEGIN:STANDARD
TZOFFSETFROM:+0200
TZOFFSETTO:+0100
TZNAME:CET
DTSTART:20241027T010000
END:STANDARD
BEGIN:DAYLIGHT
TZOFFSETFROM:+0100
TZOFFSETTO:+0200
TZNAME:CEST
DTSTART:20250330T010000
END:DAYLIGHT
BEGIN:STANDARD
TZOFFSETFROM:+0200
TZOFFSETTO:+0100
TZNAME:CET
DTSTART:20251026T010000
END:STANDARD
END:VTIMEZONE
BEGIN:VEVENT
DTSTART;TZID=Europe/Berlin:20240428T150000
DTEND;TZID=Europe/Berlin:20240428T180000
DTSTAMP:20260421T100852
CREATED:20240426T160608Z
LAST-MODIFIED:20240629T163726Z
UID:937-1714316400-1714327200@kurhaus-badherrenalb.de
SUMMARY:Tanzpartie mit Happy Dance
DESCRIPTION:Für alle Tanzfreunde aus der Region. \nFür beschwingte Tanzmusik am Sonntagnachmittag wird das beliebte Duo Happy Dance sorgen. Die beiden Musiker unterhalten unsere Gäste und alle Tanz-Fans mit Tanzmusik\, im Stil von Pop\, Rock und Schlager der 70\,80\,90 und von heute. \nPreis\nTageskasse: 9€\, Gästekarte: 7€
URL:https://kurhaus-badherrenalb.de/events/tanzpartie-mit-happy-dance-2/
LOCATION:Kurhaus Bad Herrenalb\, Kurpromenade 8\, Bad Herrenalb\, 76332\, Deutschland
ATTACH;FMTTYPE=image/jpeg:https://kurhaus-badherrenalb.de/wp-content/uploads/2024/04/Happy-Dance-3.jpg
END:VEVENT
END:VCALENDAR